BEGIN:VCALENDAR
VERSION:2.0
PRODID:-//Tukios.com/
BEGIN:VEVENT
UID:81cd02eb-52b8-4ff1-9891-0551e099a501@www.miltonshealy.com
DTSTAMP:20260424T224244Z
DTSTART:20260427T160000Z
DTEND:20260427T170000Z
SUMMARY:Visitation
DESCRIPTION:
URL:https://www.miltonshealy.com/obituaries/doris-boothe
LOCATION:Couchton Baptist Church 3171 Wagener Road  Aiken SC 29801
GEO:33.5612987;-81.6255144
END:VEVENT
END:VCALENDAR