BEGIN:VCALENDAR
VERSION:2.0
PRODID:-//Tukios.com/
BEGIN:VEVENT
UID:7ef0bb3e-c49d-46dc-bc19-444945d09da6@www.miltonshealy.com
DTSTAMP:20260424T223704Z
DTSTART:20260427T170000Z
DTEND:20260427T180000Z
SUMMARY:Funeral Service
DESCRIPTION:
URL:https://www.miltonshealy.com/obituaries/doris-boothe
LOCATION:Couchton Baptist Church 3171 Wagener Road  Aiken SC 29801
GEO:33.5612987;-81.6255144
END:VEVENT
END:VCALENDAR