BEGIN:VCALENDAR
VERSION:2.0
PRODID:-//Tukios.com/
BEGIN:VEVENT
UID:bee1c176-5352-4e17-8b46-18534bf2cecc@www.miltonshealy.com
DTSTAMP:20260424T223604Z
DTSTART:20260427
SUMMARY:Burial
DESCRIPTION:
URL:https://www.miltonshealy.com/obituaries/doris-boothe
LOCATION: 1523 Edgefield Highway  Aiken SC 29801
GEO:33.6105801;-81.7294488
END:VEVENT
END:VCALENDAR