BEGIN:VCALENDAR
VERSION:2.0
PRODID:-//Tukios.com/
BEGIN:VEVENT
UID:a0be3d74-6e4c-4825-9142-febaf7be0cdc@www.miltonshealy.com
DTSTAMP:20260423T165328Z
DTSTART:20260425T150000Z
DTEND:20260425T160000Z
SUMMARY:Memorial Service
DESCRIPTION:
URL:https://www.miltonshealy.com/obituaries/mary-rowe
LOCATION:Milton Shealy Funeral Home, Batesburg Chapel 115 North Pine 
	Street  Batesburg-Leesville SC 29006
GEO:33.9116643;-81.5484683
END:VEVENT
END:VCALENDAR