BEGIN:VCALENDAR
VERSION:2.0
PRODID:-//Tukios.com/
BEGIN:VEVENT
UID:487102ad-7584-49f2-b512-f50f0a817597@www.miltonshealy.com
DTSTAMP:20260420T205040Z
DTSTART:20260424T150000Z
DTEND:20260424T160000Z
SUMMARY:Graveside Service
DESCRIPTION:
URL:https://www.miltonshealy.com/obituaries/william-summer
LOCATION:Rosemont Cemetery 2400 College Street  Newberry SC 29108
GEO:34.2889948;-81.6220034
END:VEVENT
END:VCALENDAR